BEGIN:VCALENDAR
VERSION:2.0
PRODID:-//jEvents 2.0 for Joomla//EN
CALSCALE:GREGORIAN
METHOD:PUBLISH
BEGIN:VEVENT
UID:db8e681f9e36481578896efb6811c0dbRR714
CATEGORIES:öffentliche Veranstaltungen
CREATED:20250421T150926
SUMMARY:Sonderfahrtag ohne Moorführungen 
DESCRIPTION:Mit Butterkuchen am Kiosk \n \nFahrkarte nur 6 Euro \n
X-ALT-DESC;FMTTYPE=text/html:<p>Mit Butterkuchen am Kiosk&nbsp;</p><p>&nbsp;</p><p>Fahrkarte nur 6 Euro&
 nbsp;</p>
DTSTAMP:20260419T125711
DTSTART:20250803T080000
DTEND:20250803T150000
SEQUENCE:0
TRANSP:OPAQUE
END:VEVENT
END:VCALENDAR